BEGIN:VCALENDAR
PRODID:-//Microsoft Corporation//Outlook 10.0 MIMEDIR//EN
VERSION:2.0
METHOD:REQUEST
BEGIN:VTIMEZONE
TZID:Australia/Sydney
TZURL:http://tzurl.org/zoneinfo-outlook/Australia/Sydney
X-LIC-LOCATION:Australia/Sydney
BEGIN:STANDARD
TZOFFSETFROM:+1100
TZOFFSETTO:+1000
TZNAME:AEST
DTSTART:19700405T030000
RRULE:FREQ=YEARLY;BYMONTH=4;BYDAY=1SU
END:STANDARD
BEGIN:DAYLIGHT
TZOFFSETFROM:+1000
TZOFFSETTO:+1100
TZNAME:AEDT
DTSTART:19701004T020000
RRULE:FREQ=YEARLY;BYMONTH=10;BYDAY=1SU
END:DAYLIGHT
END:VTIMEZONE
BEGIN:VEVENT
DTSTAMP:20210120T041003Z
ATTENDEE;CN="alking@barwonhealth.org.au";ROLE=REQ-PARTICIPANT;RSVP=FALSE:MAILTO:alking@barwonhealth.org.au
ORGANIZER;CN="Cisco Webex":MAILTO:messenger@webex.com
DTSTART;TZID=Australia/Sydney:20210216T090000
DTEND;TZID=Australia/Sydney:20210216T103000
LOCATION:https://swarh.webex.com/swarh/j.php?MTID=m986757c5548d8363d7e358863d36ec8d
TRANSP:OPAQUE
SEQUENCE:1611115803
UID:d02ed857-1d77-4fa2-9da7-6f270393e606
DESCRIPTION:\n\n\nJOIN WEBEX MEETING\nhttps://swarh.webex.com/swarh/j.php?MTID=m986757c5548d8363d7e358863d36ec8d\nMeeting number (access code): 165 011 9719\n\n\nMeeting password: TVCOP2021!\n\n\n\nTAP TO JOIN FROM A MOBILE DEVICE (ATTENDEES ONLY)\n+61-3-8593-9167,,1650119719## tel:%2B61-3-8593-9167,,*01*1650119719%23%23*01* Australia Toll (Melbourne)\n+61-7-3243-7919,,1650119719## tel:%2B61-7-3243-7919,,*01*1650119719%23%23*01* Australia Toll (Brisbane)\n\n\nJOIN BY PHONE\n+61-3-8593-9167 Australia Toll (Melbourne)\n+61-7-3243-7919 Australia Toll (Brisbane)\n\nGlobal call-in numbers\nhttps://swarh.webex.com/swarh/globalcallin.php?MTID=m4a0883c0f209ebf9f34c64e912ae9abc\n\n\nJOIN FROM A VIDEO SYSTEM OR APPLICATION\nDial sip:1650119719@swarh.webex.com\nYou can also dial 210.4.202.4 and enter your meeting number.\n\n\nJoin using Microsoft Lync or Microsoft Skype for Business\nDial sip:1650119719.swarh@lync.webex.com\n\n\n\nIf you are a host, click here to view host information:\nhttps://swarh.webex.com/swarh/j.php?MTID=m51db04da87d182b8d97cedb7e860b462\n\n\n\nCan't join the meeting? Contact support here:\nhttps://swarh.webex.com/swarh/mc\n\n\nIMPORTANT NOTICE: Please note that this Webex service allows audio and other information sent during the session to be recorded, which may be discoverable in a legal matter. You should inform all meeting attendees prior to recording if you intend to record the meeting.\n
X-ALT-DESC;FMTTYPE=text/html:<style type="text/css">\ntable {\n	border-collapse: separate; width =100%;	border: 0;	border-spacing: 0;}\n\ntr {\n	line-height: 18px;}\n\na, td {\n	font-size: 14px;	font-family: Arial;	color: #333;	word-wrap: break-word;	word-break: normal;	padding: 0;}\n\n.title {\n	font-size: 28px;}\n\n.image {\n	width: auto;	max-width: auto;}\n\n.footer {\n	width: 604px;}\n\n.main {\n\n}@media screen and (max-device-width: 800px) {\n	.title {\n		font-size: 22px !important;	}\n	.image {\n		width: auto !important;		max-width: 100% !important;	}\n	.footer {\n		width: 100% !important;		max-width: 604px !important\n	}\n	.main {\n		width: 100% !important;		max-width: 604px !important\n	}\n}\n</style>\n\n<table bgcolor="#FFFFFF" style="padding: 0; margin: 0; border: 0; width: 100%;" align="left">\n	<tr style="height: 28px"><td>&nbsp;</td></tr>\n	<tr>\n		<td align="left" style="padding: 0 20px; margin: 0">\n			<!--<table bgcolor="#FFFFFF" style="border: 0px; width: 100%; padding-left: 50px; padding-right: 50px;" align="left" class="main">\n				<tr>\n					<td align="center" valign="top" >&nbsp;					</td>\n				</tr>\n			</table>-->\n\n\n\n			<table>\n				<tr>\n					<td>\n						<FONT SIZE="4" COLOR="#666666" FACE="arial">When it's time, join the Webex meeting here.</FONT>\n					</td>\n				</tr>\n		</table>\n        <table>\n        	<tr style="line-height: 20px;"><td style="height:20px">&nbsp;</td></tr>\n			<tr>\n				<td style="width:auto!important; ">\n					<table border="0" cellpadding="0" cellspacing="0" style="width:auto;width:auto!important;background-color:#00823B; border:0px solid #00823B; border-radius:25px; min-width:160px!important;">\n						<tr>\n							<td align="center" style="padding:10px 36px;"><a href="https://swarh.webex.com/swarh/j.php?MTID=m986757c5548d8363d7e358863d36ec8d" style="color:#FFFFFF; font-size:20px; text-decoration:none;">Join meeting</a></td>\n						</tr>\n					</table>\n				</td>\n			</tr>\n		</table>\n		<table>\n			<tr style="line-height: 20px;"><td style="height:20px">&nbsp;</td></tr>\n			<tr>\n				<td>\n						<FONT SIZE="3" COLOR="#666666" FACE="arial">More ways to join:</FONT>\n				</td>\n        	</tr>\n            <tr style="line-height: 10px;"><td style="height: 10px;">&nbsp;</td></tr>\n        	<tr>\n				<td>\n						<FONT SIZE="3" COLOR="#666666" FACE="arial">Join from the meeting link</FONT>\n				</td>\n        	</tr>\n        	<tr>\n				<td>\n						<FONT SIZE="2" COLOR="#666666" FACE="arial"><a href='https://swarh.webex.com/swarh/j.php?MTID=m986757c5548d8363d7e358863d36ec8d' style='color:#005E7D;  text-decoration:none; font-family: Arial;font-size: 14px;line-height: 24px;'>https://swarh.webex.com/swarh/j.php?MTID=m986757c5548d8363d7e358863d36ec8d</a></FONT>\n				</td>\n        	</tr>\n        	<tr style="line-height: 20px;"><td style="height:20px">&nbsp;</td></tr>\n			<tr>\n				<td>\n						<FONT SIZE="3" COLOR="#666666" FACE="arial">Join by meeting number</FONT>\n				</td>\n        	</tr>\n			<tr>\n				<td>\n					<FONT SIZE="2" COLOR="#666666" FACE="arial">Meeting number (access code): 165 011 9719</FONT>\n				</td>\n			</tr>\n		</table>\n		<table><tr><td><FONT SIZE="2" COLOR="#666666" FACE="arial">Meeting password:</FONT></td><td><FONT SIZE="2"  COLOR="#666666" FACE="arial">TVCOP2021!</FONT></td></tr></table>\n\n <FONT size="2" COLOR="#FF0000" style="font-family: Arial;"></FONT>\n<FONT SIZE="1" FACE="ARIAL">&nbsp;<BR>&nbsp;<BR></FONT>\n\n&nbsp; <BR><FONT SIZE="4" FACE="ARIAL"><FONT SIZE="3" COLOR="#666666" FACE="arial">Tap to join from a mobile device (attendees only)</FONT> &nbsp; <BR><FONT SIZE="2" COLOR="#666666" FACE="arial"><a href='tel:%2B61-3-8593-9167,,*01*1650119719%23%23*01*' style='color:#005E7D;  text-decoration:none; font-family: Arial;font-size: 14px;line-height: 24px;'>+61-3-8593-9167,,1650119719##</a> Australia Toll (Melbourne)</FONT> &nbsp; <BR><FONT SIZE="2" COLOR="#666666" FACE="arial"><a href='tel:%2B61-7-3243-7919,,*01*1650119719%23%23*01*' style='color:#005E7D;  text-decoration:none; font-family: Arial;font-size: 14px;line-height: 24px;'>+61-7-3243-7919,,1650119719##</a> Australia Toll (Brisbane)</FONT>&nbsp; <BR><BR><FONT SIZE="4" FACE="ARIAL"><FONT SIZE="3" COLOR="#666666" FACE="arial">Join by phone</FONT> &nbsp; <BR><FONT SIZE="2" COLOR="#666666" FACE="arial">+61-3-8593-9167 Australia Toll (Melbourne)</FONT> &nbsp; <BR><FONT SIZE="2" COLOR="#666666" FACE="arial">+61-7-3243-7919 Australia Toll (Brisbane)</FONT> &nbsp; <BR><FONT SIZE="2" COLOR="#666666" FACE="arial"><a href="https://swarh.webex.com/swarh/globalcallin.php?MTID=m4a0883c0f209ebf9f34c64e912ae9abc" style="text-decoration:none;font-size:14px;color:#005E7D">Global call-in numbers</a></FONT>&nbsp; <BR><BR><BR>\n\n<table><tr style="line-height: 20px;"><td style="height:20px">&nbsp;</td></tr></table>\n\n<FONT SIZE="4" FACE="ARIAL"><FONT SIZE="3" COLOR="#666666" FACE="arial">Join from a video system or application</FONT><BR><FONT SIZE="2" COLOR="#666666" FACE="arial">Dial</FONT> <a href="sip:1650119719@swarh.webex.com"><FONT SIZE="2" COLOR="#005E7D" FACE="arial">1650119719@swarh.webex.com</FONT></a>&nbsp; <BR><FONT SIZE="2" COLOR="#666666" FACE="arial">You can also dial 210.4.202.4 and enter your meeting number.</FONT> &nbsp; <BR></FONT>&nbsp; <BR>\n\n<table><tr style="line-height: 20px;"><td style="height:20px">&nbsp;</td></tr></table><table cellpadding="0" cellspacing="0"><tr><td  style="color: #000000; font-family: Arial;font-size: 12px; font-weight: bold; line-height: 24px;"><b>Join using Microsoft Lync or Microsoft Skype for Business</b></td></tr><tr style="margin:0px"><td style="color: #333333; font-family: Arial; font-size: 14px; line-height: 24px;">Dial <a href=" sip:1650119719.swarh@lync.webex.com"   style="text-decoration:none;color:#005E7D">1650119719.swarh@lync.webex.com</a></td></tr></table>\n\n	<table><tr style="line-height: 20px"><td style="height:20px">&nbsp;</td></tr></table>\n	<table><tr style="margin:0px"><td style="color: #333333; font-family: Arial; font-size: 14px; line-height: 24px;">If you are a host, <a href="https://swarh.webex.com/swarh/j.php?MTID=m51db04da87d182b8d97cedb7e860b462" style="text-decoration:none;color:#005E7D">click here</a> to view host information.</td></tr></table>\n\n			<table style="width: 100%;" align="left" class="main">\n                <tr style="height: 20px"><td>&nbsp;</td></tr>\n				<tr>\n					<td style="height: 24px; color: #000000; font-family:Arial; font-size: 14px; line-height: 24px;">Need help? Go to <a href="https://help.webex.com" style="color:#005E7D; text-decoration:none;">https://help.webex.com</a>\n					</td>\n				</tr>\n                <tr style="height: 44px"><td>&nbsp;</td></tr>\n			</table>\n		</td>\n	</tr>\n</table>\n
SUMMARY:Telehealth Victoria COP
PRIORITY:5
CLASS:PUBLIC
RRULE:FREQ=MONTHLY;UNTIL=20211221T090000Z;INTERVAL=1;BYDAY=TU;BYSETPOS=3
END:VEVENT
END:VCALENDAR
