BEGIN:VCALENDAR
VERSION:2.0
PRODID:-//Telehealth Victoria Community of Practice - ECPv5.4.0//NONSGML v1.0//EN
CALSCALE:GREGORIAN
METHOD:PUBLISH
X-WR-CALNAME:Telehealth Victoria Community of Practice
X-ORIGINAL-URL:https://telehealthvictoria.org.au
X-WR-CALDESC:Events for Telehealth Victoria Community of Practice
BEGIN:VTIMEZONE
TZID:Australia/Melbourne
BEGIN:STANDARD
TZOFFSETFROM:+1100
TZOFFSETTO:+1000
TZNAME:AEST
DTSTART:20200404T160000
END:STANDARD
BEGIN:DAYLIGHT
TZOFFSETFROM:+1000
TZOFFSETTO:+1100
TZNAME:AEDT
DTSTART:20201003T160000
END:DAYLIGHT
END:VTIMEZONE
BEGIN:VEVENT
DTSTART;VALUE=DATE:20201110
DTEND;VALUE=DATE:20201126
DTSTAMP:20210301T101802
CREATED:20200914T053417Z
LAST-MODIFIED:20200914T053417Z
UID:3495-1604966400-1606348799@telehealthvictoria.org.au
SUMMARY:Digital Health Institute Summit
DESCRIPTION:
URL:https://telehealthvictoria.org.au/event/digital-health-institute-summit/
END:VEVENT
BEGIN:VEVENT
DTSTART;TZID=Australia/Melbourne:20201110T090000
DTEND;TZID=Australia/Melbourne:20201110T103000
DTSTAMP:20210301T101802
CREATED:20200811T070049Z
LAST-MODIFIED:20201106T014636Z
UID:2980-1604998800-1605004200@telehealthvictoria.org.au
SUMMARY:Victorian Telehealth User Group
DESCRIPTION:Join your colleagues to talk all things telehealth – from video and remote patient monitoring\, issues and troubleshooting\, to collaboration\, education and more! \nThe ongoing collaboration\, communication and information & resource sharing between health services and telehealth teams is really valuable to: \n\nsupport and encourage each other\nshare issues – and more importantly solutions\ncollaborate on resources and communication\ncollaborate to work with DHHS and with providers on requirements and feature requests  \n\nThis is an opportunity to have ongoing discussions\, and continue collaboration and cooperation. \nWhen? \n(Usually the) Second Tuesday of each month\, from February to December 2020\, 9.00 – 10.30am \n\n10th November\n8th December\n\nHow? \nWebex: https://swarh.webex.com/swarh/j.php?MTID=m1f343b8d1fb9f947fd6a8fa71cd29ab6  \nMeeting number (access code): 165 793 9522 \nMeeting password: 1234 \nJoin by video system\nDial 1659718799@swarh.webex.com\nYou can also dial 210.4.202.4 and enter your meeting number. \nJoin by phone\n3-8593-9167 Australia Toll (Melbourne)\nAccess code: 165 971 8799 \n 
URL:https://telehealthvictoria.org.au/event/victorian-video-call-user-group/
END:VEVENT
END:VCALENDAR