BEGIN:VCALENDAR
VERSION:2.0
PRODID:-//Telehealth Victoria Community of Practice - ECPv5.4.0//NONSGML v1.0//EN
CALSCALE:GREGORIAN
METHOD:PUBLISH
X-WR-CALNAME:Telehealth Victoria Community of Practice
X-ORIGINAL-URL:https://telehealthvictoria.org.au
X-WR-CALDESC:Events for Telehealth Victoria Community of Practice
BEGIN:VTIMEZONE
TZID:Australia/Melbourne
BEGIN:STANDARD
TZOFFSETFROM:+1100
TZOFFSETTO:+1000
TZNAME:AEST
DTSTART:20200404T160000
END:STANDARD
BEGIN:DAYLIGHT
TZOFFSETFROM:+1000
TZOFFSETTO:+1100
TZNAME:AEDT
DTSTART:20201003T160000
END:DAYLIGHT
END:VTIMEZONE
BEGIN:VEVENT
DTSTART;TZID=Australia/Melbourne:20200603T123000
DTEND;TZID=Australia/Melbourne:20200603T133000
DTSTAMP:20210301T101527
CREATED:20200520T235622Z
LAST-MODIFIED:20200520T235622Z
UID:3258-1591187400-1591191000@telehealthvictoria.org.au
SUMMARY:Webinar: Telehealth etiquette: Communication techniques to optimise videoconsultations
DESCRIPTION:
URL:https://telehealthvictoria.org.au/event/webinar-telehealth-etiquette-communication-techniques-to-optimise-videoconsultations/
END:VEVENT
END:VCALENDAR