BEGIN:VCALENDAR
VERSION:2.0
PRODID:-//Telehealth Victoria Community of Practice - ECPv5.3.2.1//NONSGML v1.0//EN
CALSCALE:GREGORIAN
METHOD:PUBLISH
X-WR-CALNAME:Telehealth Victoria Community of Practice
X-ORIGINAL-URL:https://telehealthvictoria.org.au
X-WR-CALDESC:Events for Telehealth Victoria Community of Practice
BEGIN:VTIMEZONE
TZID:Australia/Melbourne
BEGIN:STANDARD
TZOFFSETFROM:+1100
TZOFFSETTO:+1000
TZNAME:AEST
DTSTART:20210403T160000
END:STANDARD
BEGIN:DAYLIGHT
TZOFFSETFROM:+1000
TZOFFSETTO:+1100
TZNAME:AEDT
DTSTART:20211002T160000
END:DAYLIGHT
END:VTIMEZONE
BEGIN:VEVENT
DTSTART;TZID=Australia/Melbourne:20210309T110000
DTEND;TZID=Australia/Melbourne:20210309T131000
DTSTAMP:20210224T235301
CREATED:20210209T060447Z
LAST-MODIFIED:20210209T060447Z
UID:3789-1615287600-1615295400@telehealthvictoria.org.au
SUMMARY:Virtual Event: Improving Remote and Telehealth Services
DESCRIPTION:
URL:https://telehealthvictoria.org.au/event/virtual-event-improving-remote-and-telehealth-services/
END:VEVENT
END:VCALENDAR