BEGIN:VCALENDAR
VERSION:2.0
PRODID:-//Telehealth Victoria Community of Practice - ECPv5.4.0//NONSGML v1.0//EN
CALSCALE:GREGORIAN
METHOD:PUBLISH
X-WR-CALNAME:Telehealth Victoria Community of Practice
X-ORIGINAL-URL:https://telehealthvictoria.org.au
X-WR-CALDESC:Events for Telehealth Victoria Community of Practice
BEGIN:VTIMEZONE
TZID:Australia/Melbourne
BEGIN:STANDARD
TZOFFSETFROM:+1100
TZOFFSETTO:+1000
TZNAME:AEST
DTSTART:20200404T160000
END:STANDARD
BEGIN:DAYLIGHT
TZOFFSETFROM:+1000
TZOFFSETTO:+1100
TZNAME:AEDT
DTSTART:20201003T160000
END:DAYLIGHT
END:VTIMEZONE
BEGIN:VEVENT
DTSTART;TZID=Australia/Melbourne:20200922T090000
DTEND;TZID=Australia/Melbourne:20200922T100000
DTSTAMP:20210301T095121
CREATED:20200914T053538Z
LAST-MODIFIED:20200914T053538Z
UID:3497-1600765200-1600768800@telehealthvictoria.org.au
SUMMARY:Victorian Telehealth User Group - Inpatient Telehealth
DESCRIPTION:
URL:https://telehealthvictoria.org.au/event/victorian-telehealth-user-group-inpatient-telehealth/
END:VEVENT
END:VCALENDAR