BEGIN:VCALENDAR
VERSION:2.0
PRODID:-//Telehealth Victoria Community of Practice - ECPv5.3.2.1//NONSGML v1.0//EN
CALSCALE:GREGORIAN
METHOD:PUBLISH
X-WR-CALNAME:Telehealth Victoria Community of Practice
X-ORIGINAL-URL:https://telehealthvictoria.org.au
X-WR-CALDESC:Events for Telehealth Victoria Community of Practice
BEGIN:VTIMEZONE
TZID:Australia/Melbourne
BEGIN:STANDARD
TZOFFSETFROM:+1100
TZOFFSETTO:+1000
TZNAME:AEST
DTSTART:20210403T160000
END:STANDARD
BEGIN:DAYLIGHT
TZOFFSETFROM:+1000
TZOFFSETTO:+1100
TZNAME:AEDT
DTSTART:20211002T160000
END:DAYLIGHT
END:VTIMEZONE
BEGIN:VEVENT
DTSTART;TZID=Australia/Melbourne:20210316T090000
DTEND;TZID=Australia/Melbourne:20210316T103000
DTSTAMP:20210224T235312
CREATED:20210120T051648Z
LAST-MODIFIED:20210120T051648Z
UID:3748-1615885200-1615890600@telehealthvictoria.org.au
SUMMARY:Telehealth Victoria COP monthly meeting / User Group
DESCRIPTION:
URL:https://telehealthvictoria.org.au/event/telehealth-victoria-cop-monthly-meeting-user-group-3/
END:VEVENT
END:VCALENDAR