BEGIN:VCALENDAR
VERSION:2.0
PRODID:-//Telehealth Victoria Community of Practice - ECPv5.4.0//NONSGML v1.0//EN
CALSCALE:GREGORIAN
METHOD:PUBLISH
X-WR-CALNAME:Telehealth Victoria Community of Practice
X-ORIGINAL-URL:https://telehealthvictoria.org.au
X-WR-CALDESC:Events for Telehealth Victoria Community of Practice
BEGIN:VTIMEZONE
TZID:Australia/Melbourne
BEGIN:STANDARD
TZOFFSETFROM:+1100
TZOFFSETTO:+1000
TZNAME:AEST
DTSTART:20200404T160000
END:STANDARD
BEGIN:DAYLIGHT
TZOFFSETFROM:+1000
TZOFFSETTO:+1100
TZNAME:AEDT
DTSTART:20201003T160000
END:DAYLIGHT
END:VTIMEZONE
BEGIN:VEVENT
DTSTART;TZID=Australia/Melbourne:20200728T093000
DTEND;TZID=Australia/Melbourne:20200728T110000
DTSTAMP:20210301T095108
CREATED:20200624T034843Z
LAST-MODIFIED:20200714T004124Z
UID:3324-1595928600-1595934000@telehealthvictoria.org.au
SUMMARY:Online workshop: Managing interpreter access
DESCRIPTION:
URL:https://telehealthvictoria.org.au/event/interpreters-and-telehealth/
END:VEVENT
END:VCALENDAR