BEGIN:VCALENDAR
VERSION:2.0
PRODID:-//Telehealth Victoria Community of Practice - ECPv5.4.0//NONSGML v1.0//EN
CALSCALE:GREGORIAN
METHOD:PUBLISH
X-WR-CALNAME:Telehealth Victoria Community of Practice
X-ORIGINAL-URL:https://telehealthvictoria.org.au
X-WR-CALDESC:Events for Telehealth Victoria Community of Practice
BEGIN:VTIMEZONE
TZID:Australia/Melbourne
BEGIN:STANDARD
TZOFFSETFROM:+1100
TZOFFSETTO:+1000
TZNAME:AEST
DTSTART:20170401T160000
END:STANDARD
BEGIN:DAYLIGHT
TZOFFSETFROM:+1000
TZOFFSETTO:+1100
TZNAME:AEDT
DTSTART:20170930T160000
END:DAYLIGHT
END:VTIMEZONE
BEGIN:VEVENT
DTSTART;TZID=Australia/Melbourne:20171019T100000
DTEND;TZID=Australia/Melbourne:20171019T110000
DTSTAMP:20210301T095822
CREATED:20170911T031723Z
LAST-MODIFIED:20171004T044033Z
UID:627-1508407200-1508410800@telehealthvictoria.org.au
SUMMARY:COP Webinar - Creating an animated video clip to promote your telehealth service.
DESCRIPTION:Topic: Creating an animated video clip to promote your telehealth service.\nFacilitator: Barb Radley\, Telehealth Project Worker and Facilitator\, Latrobe Regional Hospital \nWhen: Thursday 19th October at 10 am\nLog-on via: http://www.rch.org.au/telehealth/gotomeeting/\nPassword when prompted: tvcop\nLog on early: Please logon 15 minutes earlier so you can make sure you’re good to go by 10 am.\nIn a pickle?  Call Lindy on 0431 444 748\n\nPlease note: Only 25 participants can join each webinar. We will be using the Go To Meeting platform. You can connect via any device\, including a desk top\, lap top\, tablet or smartphone. A webcam is ideal but not essential. You will however need audio to listen and speak. \nPlease visit  http://www.rch.org.au/telehealth/gotomeeting/ for more details. We recommend that you make a test call as soon as possible. Please follow the prompts on the website.
URL:https://telehealthvictoria.org.au/event/cop-webinar-creating-an-animated-video-clip-to-promote-your-telehealth-service/
END:VEVENT
END:VCALENDAR