BEGIN:VCALENDAR
VERSION:2.0
PRODID:-//Telehealth Victoria Community of Practice - ECPv5.4.0//NONSGML v1.0//EN
CALSCALE:GREGORIAN
METHOD:PUBLISH
X-WR-CALNAME:Telehealth Victoria Community of Practice
X-ORIGINAL-URL:https://telehealthvictoria.org.au
X-WR-CALDESC:Events for Telehealth Victoria Community of Practice
BEGIN:VTIMEZONE
TZID:Australia/Melbourne
BEGIN:STANDARD
TZOFFSETFROM:+1100
TZOFFSETTO:+1000
TZNAME:AEST
DTSTART:20170401T160000
END:STANDARD
BEGIN:DAYLIGHT
TZOFFSETFROM:+1000
TZOFFSETTO:+1100
TZNAME:AEDT
DTSTART:20170930T160000
END:DAYLIGHT
END:VTIMEZONE
BEGIN:VEVENT
DTSTART;VALUE=DATE:20171108
DTEND;VALUE=DATE:20171111
DTSTAMP:20210301T095902
CREATED:20170703T053754Z
LAST-MODIFIED:20170723T223647Z
UID:357-1510099200-1510358399@telehealthvictoria.org.au
SUMMARY:4th European Congress on eCardiology and eHealth
DESCRIPTION:eHealth is reshaping the way doctors and medical professionals work or interact between themselves and with their patients. New tools and data will have a great impact on daily Professional activities. \nThis congress aims to contribute to a successful translation from research and development to clinical application  by bringing the various stakeholders together.\nClinicians will learn how to apply the most important tools in eCardiology and eHealth to improve their daily work\, for the benefit of their patients\, whilst researchers\, technicians\, industry partners\, health authorities and regulators\, alike\, will learn from clinicians what their real needs are. \nJoin us in Berlin\, on November 9-10\, 2017\, to present on or to learn about new technologies\, products and/or services in eHealth\, focusing on eCardiology. Contribute to build a stronger bridge by connecting with clinicians and other key stakeholders.\nBecome an active leader in the translation of technology into real-world\, clinical applications\, to further improve cardiovascular patient care and clinical outcomes.
URL:https://telehealthvictoria.org.au/event/4th-european-congress-on-ecardiology-and-ehealth/
ATTACH;FMTTYPE=image/jpeg:https://telehealthvictoria.org.au/wp-content/uploads/2017/07/Telehealth-test-image-mailchimp.jpg
END:VEVENT
END:VCALENDAR